BEGIN:VCALENDAR
VERSION:2.0
PRODID:-//The Ottawa-Carleton Elementary Teachers’ Federation - ECPv6.13.2.1//NONSGML v1.0//EN
CALSCALE:GREGORIAN
METHOD:PUBLISH
X-WR-CALNAME:The Ottawa-Carleton Elementary Teachers’ Federation
X-ORIGINAL-URL:https://www.ocetfo.ca
X-WR-CALDESC:Events for The Ottawa-Carleton Elementary Teachers’ Federation
REFRESH-INTERVAL;VALUE=DURATION:PT1H
X-Robots-Tag:noindex
X-PUBLISHED-TTL:PT1H
BEGIN:VTIMEZONE
TZID:America/Toronto
BEGIN:DAYLIGHT
TZOFFSETFROM:-0500
TZOFFSETTO:-0400
TZNAME:EDT
DTSTART:20260308T070000
END:DAYLIGHT
BEGIN:STANDARD
TZOFFSETFROM:-0400
TZOFFSETTO:-0500
TZNAME:EST
DTSTART:20261101T060000
END:STANDARD
END:VTIMEZONE
BEGIN:VEVENT
DTSTART;VALUE=DATE:20260419
DTEND;VALUE=DATE:20260426
DTSTAMP:20260422T061642
CREATED:20260325T171958Z
LAST-MODIFIED:20260325T171958Z
UID:9804-1776556800-1777161599@www.ocetfo.ca
SUMMARY:National Volunteer Week
DESCRIPTION:
URL:https://www.ocetfo.ca/event/national-volunteer-week-2/
CATEGORIES:Dates of Significance
END:VEVENT
BEGIN:VEVENT
DTSTART;VALUE=DATE:20260422
DTEND;VALUE=DATE:20260423
DTSTAMP:20260422T061642
CREATED:20260325T171659Z
LAST-MODIFIED:20260325T171659Z
UID:9791-1776816000-1776902399@www.ocetfo.ca
SUMMARY:Earth Day
DESCRIPTION:
URL:https://www.ocetfo.ca/event/earth-day-2/
CATEGORIES:Dates of Significance
END:VEVENT
BEGIN:VEVENT
DTSTART;TZID=America/Toronto:20260422T163000
DTEND;TZID=America/Toronto:20260422T183000
DTSTAMP:20260422T061642
CREATED:20260409T175734Z
LAST-MODIFIED:20260413T150140Z
UID:10039-1776875400-1776882600@www.ocetfo.ca
SUMMARY:ETFO All Members' Meeting
DESCRIPTION:Central bargaining preparations are progressing\, and as we organize for the province-wide Day of Action on April 29\, it is also important to plan ahead for the expiry of our collective agreements. \nIn preparation for all possible scenarios related to central bargaining\, our provincial union is holding all-member information meetings where a provincial released officer will explain key aspects of our 2026 central bargaining strategy\, including priorities\, the process\, and information about the central strike vote.  The meeting will be held after school and is open to all ETFO members working for the district board in our area. \nAttendance at the meeting is vital to ensure you and every member understand central bargaining\, how the union is approaching this round\, and what might come next. This meeting is also an opportunity for you to get your questions answered. Your participation in the All-Member Meeting strengthens our collective power! Please plan to attend.
URL:https://www.ocetfo.ca/event/etfo-all-members-meeting/
LOCATION:Ottawa Conference and Event Centre\, 200 Coventry Road\, Ottawa\, Ontario\, K1K 4S3\, Canada
CATEGORIES:All Members,ETFO Provincial
ATTACH;FMTTYPE=image/png:https://www.ocetfo.ca/wp-content/uploads/2026/04/Ottawa_All-Member-Meeting_POSTER_Fillable_PHOTO_Apr22-scaled.png
ORGANIZER;CN="OC ETFO":MAILTO:office@ocetfo.org
END:VEVENT
END:VCALENDAR