BEGIN:VCALENDAR
VERSION:2.0
PRODID:-//The Ottawa-Carleton Elementary Teachers’ Federation - ECPv6.13.2.1//NONSGML v1.0//EN
CALSCALE:GREGORIAN
METHOD:PUBLISH
X-WR-CALNAME:The Ottawa-Carleton Elementary Teachers’ Federation
X-ORIGINAL-URL:https://www.ocetfo.ca
X-WR-CALDESC:Events for The Ottawa-Carleton Elementary Teachers’ Federation
REFRESH-INTERVAL;VALUE=DURATION:PT1H
X-Robots-Tag:noindex
X-PUBLISHED-TTL:PT1H
BEGIN:VTIMEZONE
TZID:America/Toronto
BEGIN:DAYLIGHT
TZOFFSETFROM:-0500
TZOFFSETTO:-0400
TZNAME:EDT
DTSTART:20260308T070000
END:DAYLIGHT
BEGIN:STANDARD
TZOFFSETFROM:-0400
TZOFFSETTO:-0500
TZNAME:EST
DTSTART:20261101T060000
END:STANDARD
END:VTIMEZONE
BEGIN:VEVENT
DTSTART;VALUE=DATE:20260419
DTEND;VALUE=DATE:20260426
DTSTAMP:20260423T021258
CREATED:20260325T171958Z
LAST-MODIFIED:20260325T171958Z
UID:9804-1776556800-1777161599@www.ocetfo.ca
SUMMARY:National Volunteer Week
DESCRIPTION:
URL:https://www.ocetfo.ca/event/national-volunteer-week-2/
CATEGORIES:Dates of Significance
END:VEVENT
BEGIN:VEVENT
DTSTART;VALUE=DATE:20260423
DTEND;VALUE=DATE:20260424
DTSTAMP:20260423T021258
CREATED:20260325T171718Z
LAST-MODIFIED:20260325T171718Z
UID:9793-1776902400-1776988799@www.ocetfo.ca
SUMMARY:National Administrative Professional Day
DESCRIPTION:
URL:https://www.ocetfo.ca/event/national-administrative-professional-day-2/
CATEGORIES:Dates of Significance
END:VEVENT
BEGIN:VEVENT
DTSTART;VALUE=DATE:20260423
DTEND;VALUE=DATE:20260424
DTSTAMP:20260423T021258
CREATED:20260325T171735Z
LAST-MODIFIED:20260325T171735Z
UID:9795-1776902400-1776988799@www.ocetfo.ca
SUMMARY:World Book Day
DESCRIPTION:
URL:https://www.ocetfo.ca/event/world-book-day-2/
CATEGORIES:Dates of Significance
END:VEVENT
BEGIN:VEVENT
DTSTART;VALUE=DATE:20260423
DTEND;VALUE=DATE:20260424
DTSTAMP:20260423T021258
CREATED:20260325T171836Z
LAST-MODIFIED:20260325T171836Z
UID:9801-1776902400-1776988799@www.ocetfo.ca
SUMMARY:International Girls in Information and Telecommunications Technologies Day
DESCRIPTION:
URL:https://www.ocetfo.ca/event/international-girls-in-information-and-telecommunications-technologies-day/
CATEGORIES:Dates of Significance
END:VEVENT
BEGIN:VEVENT
DTSTART;TZID=America/Toronto:20260423T163000
DTEND;TZID=America/Toronto:20260423T180000
DTSTAMP:20260423T021258
CREATED:20251014T180401Z
LAST-MODIFIED:20251014T180401Z
UID:8786-1776961800-1776967200@www.ocetfo.ca
SUMMARY:2SLGBTQ+ Committee Meeting
DESCRIPTION:
URL:https://www.ocetfo.ca/event/2slgbtq-committee-meeting-2/
LOCATION:Virtual Event
CATEGORIES:All Members,Committee
ORGANIZER;CN="Shawna Rothgeb":MAILTO:shawna.rothgeb@ocdsb.ca
END:VEVENT
END:VCALENDAR