BEGIN:VCALENDAR
VERSION:2.0
PRODID:-//The Ottawa-Carleton Elementary Teachers’ Federation - ECPv6.13.2.1//NONSGML v1.0//EN
CALSCALE:GREGORIAN
METHOD:PUBLISH
X-WR-CALNAME:The Ottawa-Carleton Elementary Teachers’ Federation
X-ORIGINAL-URL:https://www.ocetfo.ca
X-WR-CALDESC:Events for The Ottawa-Carleton Elementary Teachers’ Federation
REFRESH-INTERVAL;VALUE=DURATION:PT1H
X-Robots-Tag:noindex
X-PUBLISHED-TTL:PT1H
BEGIN:VTIMEZONE
TZID:America/Toronto
BEGIN:DAYLIGHT
TZOFFSETFROM:-0500
TZOFFSETTO:-0400
TZNAME:EDT
DTSTART:20230312T070000
END:DAYLIGHT
BEGIN:STANDARD
TZOFFSETFROM:-0400
TZOFFSETTO:-0500
TZNAME:EST
DTSTART:20231105T060000
END:STANDARD
END:VTIMEZONE
BEGIN:VEVENT
DTSTART;TZID=America/Toronto:20231128T163000
DTEND;TZID=America/Toronto:20231128T183000
DTSTAMP:20260419T100506
CREATED:20231027T133826Z
LAST-MODIFIED:20231027T133826Z
UID:3145-1701189000-1701196200@www.ocetfo.ca
SUMMARY:Collective Bargaining Committee (CBC) Meeting
DESCRIPTION:Collective Bargaining Committee (CBC) Meeting \nTuesday\, 28 November \n4:30pm – OCETFO/FEEO Office
URL:https://www.ocetfo.ca/event/collective-bargaining-committee-cbc-meeting/
LOCATION:OC ETFO/FEEO Office\, 1150 Morrison Dr.\, Ottawa\, ON\, ON\, K2H 8S9\, Canada
CATEGORIES:CBC Members
END:VEVENT
END:VCALENDAR