BEGIN:VCALENDAR
VERSION:2.0
PRODID:-//The Ottawa-Carleton Elementary Teachers’ Federation - ECPv6.13.2.1//NONSGML v1.0//EN
CALSCALE:GREGORIAN
METHOD:PUBLISH
X-ORIGINAL-URL:https://www.ocetfo.ca
X-WR-CALDESC:Events for The Ottawa-Carleton Elementary Teachers’ Federation
REFRESH-INTERVAL;VALUE=DURATION:PT1H
X-Robots-Tag:noindex
X-PUBLISHED-TTL:PT1H
BEGIN:VTIMEZONE
TZID:America/Toronto
BEGIN:DAYLIGHT
TZOFFSETFROM:-0500
TZOFFSETTO:-0400
TZNAME:EDT
DTSTART:20200308T070000
END:DAYLIGHT
BEGIN:STANDARD
TZOFFSETFROM:-0400
TZOFFSETTO:-0500
TZNAME:EST
DTSTART:20201101T060000
END:STANDARD
END:VTIMEZONE
BEGIN:VEVENT
DTSTART;TZID=America/Toronto:20201102T163000
DTEND;TZID=America/Toronto:20201102T183000
DTSTAMP:20260425T225753
CREATED:20220405T142000Z
LAST-MODIFIED:20220405T142000Z
UID:557-1604334600-1604341800@www.ocetfo.ca
SUMMARY:Executive Meeting
DESCRIPTION:Location: Zoom Meeting
URL:https://www.ocetfo.ca/event/executive-meeting-2/
CATEGORIES:Executive Members
END:VEVENT
BEGIN:VEVENT
DTSTART;TZID=America/Toronto:20201123T133000
DTEND;TZID=America/Toronto:20201123T153000
DTSTAMP:20260425T225753
CREATED:20220405T142000Z
LAST-MODIFIED:20220405T142000Z
UID:558-1606138200-1606145400@www.ocetfo.ca
SUMMARY:Executive Meeting
DESCRIPTION:Location: Zoom Meeting
URL:https://www.ocetfo.ca/event/executive-meeting-3/
CATEGORIES:Executive Members
END:VEVENT
END:VCALENDAR