BEGIN:VCALENDAR
VERSION:2.0
PRODID:-//The Ottawa-Carleton Elementary Teachers’ Federation - ECPv6.13.2.1//NONSGML v1.0//EN
CALSCALE:GREGORIAN
METHOD:PUBLISH
X-ORIGINAL-URL:https://www.ocetfo.ca
X-WR-CALDESC:Events for The Ottawa-Carleton Elementary Teachers’ Federation
REFRESH-INTERVAL;VALUE=DURATION:PT1H
X-Robots-Tag:noindex
X-PUBLISHED-TTL:PT1H
BEGIN:VTIMEZONE
TZID:America/Toronto
BEGIN:DAYLIGHT
TZOFFSETFROM:-0500
TZOFFSETTO:-0400
TZNAME:EDT
DTSTART:20210314T070000
END:DAYLIGHT
BEGIN:STANDARD
TZOFFSETFROM:-0400
TZOFFSETTO:-0500
TZNAME:EST
DTSTART:20211107T060000
END:STANDARD
END:VTIMEZONE
BEGIN:VEVENT
DTSTART;TZID=America/Toronto:20210308T130000
DTEND;TZID=America/Toronto:20210308T150000
DTSTAMP:20260425T155138
CREATED:20220405T142348Z
LAST-MODIFIED:20220405T142348Z
UID:565-1615208400-1615215600@www.ocetfo.ca
SUMMARY:Executive Meeting
DESCRIPTION:Zoom Meeting
URL:https://www.ocetfo.ca/event/executive-meeting-10/
CATEGORIES:Executive Members
END:VEVENT
BEGIN:VEVENT
DTSTART;TZID=America/Toronto:20210329T163000
DTEND;TZID=America/Toronto:20210329T183000
DTSTAMP:20260425T155138
CREATED:20220405T142348Z
LAST-MODIFIED:20220405T142348Z
UID:566-1617035400-1617042600@www.ocetfo.ca
SUMMARY:Executive Meeting
DESCRIPTION:Zoom Meeting
URL:https://www.ocetfo.ca/event/executive-meeting-11/
CATEGORIES:Executive Members
END:VEVENT
END:VCALENDAR