BEGIN:VCALENDAR
VERSION:2.0
PRODID:-//The Ottawa-Carleton Elementary Teachers’ Federation - ECPv6.13.2.1//NONSGML v1.0//EN
CALSCALE:GREGORIAN
METHOD:PUBLISH
X-WR-CALNAME:The Ottawa-Carleton Elementary Teachers’ Federation
X-ORIGINAL-URL:https://www.ocetfo.ca
X-WR-CALDESC:Events for The Ottawa-Carleton Elementary Teachers’ Federation
REFRESH-INTERVAL;VALUE=DURATION:PT1H
X-Robots-Tag:noindex
X-PUBLISHED-TTL:PT1H
BEGIN:VTIMEZONE
TZID:America/Toronto
BEGIN:DAYLIGHT
TZOFFSETFROM:-0500
TZOFFSETTO:-0400
TZNAME:EDT
DTSTART:20250309T070000
END:DAYLIGHT
BEGIN:STANDARD
TZOFFSETFROM:-0400
TZOFFSETTO:-0500
TZNAME:EST
DTSTART:20251102T060000
END:STANDARD
END:VTIMEZONE
BEGIN:VEVENT
DTSTART;TZID=America/Toronto:20251010T090000
DTEND;TZID=America/Toronto:20251010T153000
DTSTAMP:20260419T180313
CREATED:20250611T185833Z
LAST-MODIFIED:20250930T180638Z
UID:7545-1760086800-1760110200@www.ocetfo.ca
SUMMARY:Executive Retreat
DESCRIPTION:
URL:https://www.ocetfo.ca/event/executive-retreat-3/
LOCATION:OC ETFO/FEEO Office\, 1150 Morrison Dr.\, Ottawa\, ON\, ON\, K2H 8S9\, Canada
CATEGORIES:Executive Members
END:VEVENT
BEGIN:VEVENT
DTSTART;TZID=America/Toronto:20251020T163000
DTEND;TZID=America/Toronto:20251020T183000
DTSTAMP:20260419T180313
CREATED:20250611T185920Z
LAST-MODIFIED:20250611T185920Z
UID:7547-1760977800-1760985000@www.ocetfo.ca
SUMMARY:Executive Meeting
DESCRIPTION:
URL:https://www.ocetfo.ca/event/executive-meeting-88/
LOCATION:OC ETFO/FEEO Office\, 1150 Morrison Dr.\, Ottawa\, ON\, ON\, K2H 8S9\, Canada
CATEGORIES:Executive Members
END:VEVENT
END:VCALENDAR