BEGIN:VCALENDAR
VERSION:2.0
PRODID:-//The Ottawa-Carleton Elementary Teachers’ Federation - ECPv6.13.2.1//NONSGML v1.0//EN
CALSCALE:GREGORIAN
METHOD:PUBLISH
X-WR-CALNAME:The Ottawa-Carleton Elementary Teachers’ Federation
X-ORIGINAL-URL:https://www.ocetfo.ca
X-WR-CALDESC:Events for The Ottawa-Carleton Elementary Teachers’ Federation
REFRESH-INTERVAL;VALUE=DURATION:PT1H
X-Robots-Tag:noindex
X-PUBLISHED-TTL:PT1H
BEGIN:VTIMEZONE
TZID:America/Toronto
BEGIN:DAYLIGHT
TZOFFSETFROM:-0500
TZOFFSETTO:-0400
TZNAME:EDT
DTSTART:20250309T070000
END:DAYLIGHT
BEGIN:STANDARD
TZOFFSETFROM:-0400
TZOFFSETTO:-0500
TZNAME:EST
DTSTART:20251102T060000
END:STANDARD
BEGIN:DAYLIGHT
TZOFFSETFROM:-0500
TZOFFSETTO:-0400
TZNAME:EDT
DTSTART:20260308T070000
END:DAYLIGHT
BEGIN:STANDARD
TZOFFSETFROM:-0400
TZOFFSETTO:-0500
TZNAME:EST
DTSTART:20261101T060000
END:STANDARD
END:VTIMEZONE
BEGIN:VEVENT
DTSTART;TZID=America/Toronto:20250526T163000
DTEND;TZID=America/Toronto:20250526T163000
DTSTAMP:20260423T044145
CREATED:20241017T204345Z
LAST-MODIFIED:20241017T204345Z
UID:4552-1748277000-1748277000@www.ocetfo.ca
SUMMARY:Executive Meeting
DESCRIPTION:
URL:https://www.ocetfo.ca/event/executive-meeting-84/
LOCATION:OC ETFO/FEEO Office\, 1150 Morrison Dr.\, Ottawa\, ON\, ON\, K2H 8S9\, Canada
CATEGORIES:Executive Members
END:VEVENT
BEGIN:VEVENT
DTSTART;TZID=America/Toronto:20250609T130000
DTEND;TZID=America/Toronto:20250609T130000
DTSTAMP:20260423T044145
CREATED:20241017T204421Z
LAST-MODIFIED:20241017T204421Z
UID:4554-1749474000-1749474000@www.ocetfo.ca
SUMMARY:Executive Meeting
DESCRIPTION:
URL:https://www.ocetfo.ca/event/executive-meeting-85/
LOCATION:OC ETFO/FEEO Office\, 1150 Morrison Dr.\, Ottawa\, ON\, ON\, K2H 8S9\, Canada
CATEGORIES:Executive Members
END:VEVENT
BEGIN:VEVENT
DTSTART;TZID=America/Toronto:20250623T163000
DTEND;TZID=America/Toronto:20250623T163000
DTSTAMP:20260423T044145
CREATED:20241017T204455Z
LAST-MODIFIED:20241018T133955Z
UID:4556-1750696200-1750696200@www.ocetfo.ca
SUMMARY:Executive Meeting - Summer Social
DESCRIPTION:Venue TBC.
URL:https://www.ocetfo.ca/event/executive-meeting-summer-social/
LOCATION:ON
CATEGORIES:CBC Members,Executive Members
END:VEVENT
BEGIN:VEVENT
DTSTART;TZID=America/Toronto:20250908T130000
DTEND;TZID=America/Toronto:20250908T160000
DTSTAMP:20260423T044145
CREATED:20250611T185646Z
LAST-MODIFIED:20250611T192857Z
UID:7541-1757336400-1757347200@www.ocetfo.ca
SUMMARY:Executive Meeting
DESCRIPTION:
URL:https://www.ocetfo.ca/event/executive-meeting-86/
LOCATION:OC ETFO/FEEO Office\, 1150 Morrison Dr.\, Ottawa\, ON\, ON\, K2H 8S9\, Canada
CATEGORIES:Executive Members
END:VEVENT
BEGIN:VEVENT
DTSTART;TZID=America/Toronto:20250929T163000
DTEND;TZID=America/Toronto:20250929T183000
DTSTAMP:20260423T044145
CREATED:20250611T185741Z
LAST-MODIFIED:20250611T185741Z
UID:7543-1759163400-1759170600@www.ocetfo.ca
SUMMARY:Executive Meeting
DESCRIPTION:
URL:https://www.ocetfo.ca/event/executive-meeting-87/
LOCATION:OC ETFO/FEEO Office\, 1150 Morrison Dr.\, Ottawa\, ON\, ON\, K2H 8S9\, Canada
CATEGORIES:Executive Members
END:VEVENT
BEGIN:VEVENT
DTSTART;TZID=America/Toronto:20251010T090000
DTEND;TZID=America/Toronto:20251010T153000
DTSTAMP:20260423T044145
CREATED:20250611T185833Z
LAST-MODIFIED:20250930T180638Z
UID:7545-1760086800-1760110200@www.ocetfo.ca
SUMMARY:Executive Retreat
DESCRIPTION:
URL:https://www.ocetfo.ca/event/executive-retreat-3/
LOCATION:OC ETFO/FEEO Office\, 1150 Morrison Dr.\, Ottawa\, ON\, ON\, K2H 8S9\, Canada
CATEGORIES:Executive Members
END:VEVENT
BEGIN:VEVENT
DTSTART;TZID=America/Toronto:20251020T163000
DTEND;TZID=America/Toronto:20251020T183000
DTSTAMP:20260423T044145
CREATED:20250611T185920Z
LAST-MODIFIED:20250611T185920Z
UID:7547-1760977800-1760985000@www.ocetfo.ca
SUMMARY:Executive Meeting
DESCRIPTION:
URL:https://www.ocetfo.ca/event/executive-meeting-88/
LOCATION:OC ETFO/FEEO Office\, 1150 Morrison Dr.\, Ottawa\, ON\, ON\, K2H 8S9\, Canada
CATEGORIES:Executive Members
END:VEVENT
BEGIN:VEVENT
DTSTART;TZID=America/Toronto:20251103T130000
DTEND;TZID=America/Toronto:20251103T160000
DTSTAMP:20260423T044145
CREATED:20250611T185958Z
LAST-MODIFIED:20250611T193019Z
UID:7549-1762174800-1762185600@www.ocetfo.ca
SUMMARY:Executive Meeting
DESCRIPTION:
URL:https://www.ocetfo.ca/event/executive-meeting-89/
LOCATION:OC ETFO/FEEO Office\, 1150 Morrison Dr.\, Ottawa\, ON\, ON\, K2H 8S9\, Canada
CATEGORIES:Executive Members
END:VEVENT
BEGIN:VEVENT
DTSTART;TZID=America/Toronto:20251117T163000
DTEND;TZID=America/Toronto:20251117T183000
DTSTAMP:20260423T044145
CREATED:20250611T190042Z
LAST-MODIFIED:20250611T190042Z
UID:7551-1763397000-1763404200@www.ocetfo.ca
SUMMARY:Executive Meeting
DESCRIPTION:
URL:https://www.ocetfo.ca/event/executive-meeting-90/
LOCATION:OC ETFO/FEEO Office\, 1150 Morrison Dr.\, Ottawa\, ON\, ON\, K2H 8S9\, Canada
CATEGORIES:Executive Members
END:VEVENT
BEGIN:VEVENT
DTSTART;TZID=America/Toronto:20251201T130000
DTEND;TZID=America/Toronto:20251201T160000
DTSTAMP:20260423T044145
CREATED:20250611T190130Z
LAST-MODIFIED:20250611T190130Z
UID:7553-1764594000-1764604800@www.ocetfo.ca
SUMMARY:Executive Meeting
DESCRIPTION:
URL:https://www.ocetfo.ca/event/executive-meeting-91/
LOCATION:OC ETFO/FEEO Office\, 1150 Morrison Dr.\, Ottawa\, ON\, ON\, K2H 8S9\, Canada
CATEGORIES:Executive Members
END:VEVENT
BEGIN:VEVENT
DTSTART;TZID=America/Toronto:20251215T163000
DTEND;TZID=America/Toronto:20251215T200000
DTSTAMP:20260423T044145
CREATED:20250611T190212Z
LAST-MODIFIED:20250611T190212Z
UID:7555-1765816200-1765828800@www.ocetfo.ca
SUMMARY:Winter Social Dinner
DESCRIPTION:
URL:https://www.ocetfo.ca/event/winter-social-dinner/
LOCATION:ON
CATEGORIES:CBC Members,Executive Members
END:VEVENT
BEGIN:VEVENT
DTSTART;TZID=America/Toronto:20260112T130000
DTEND;TZID=America/Toronto:20260112T160000
DTSTAMP:20260423T044145
CREATED:20250611T190420Z
LAST-MODIFIED:20250611T190420Z
UID:7557-1768222800-1768233600@www.ocetfo.ca
SUMMARY:Executive Meeting
DESCRIPTION:
URL:https://www.ocetfo.ca/event/executive-meeting-92/
LOCATION:OC ETFO/FEEO Office\, 1150 Morrison Dr.\, Ottawa\, ON\, ON\, K2H 8S9\, Canada
CATEGORIES:Executive Members
END:VEVENT
BEGIN:VEVENT
DTSTART;TZID=America/Toronto:20260126T163000
DTEND;TZID=America/Toronto:20260126T183000
DTSTAMP:20260423T044145
CREATED:20250611T190522Z
LAST-MODIFIED:20250611T193051Z
UID:7559-1769445000-1769452200@www.ocetfo.ca
SUMMARY:Executive Meeting
DESCRIPTION:
URL:https://www.ocetfo.ca/event/executive-meeting-93/
LOCATION:OC ETFO/FEEO Office\, 1150 Morrison Dr.\, Ottawa\, ON\, ON\, K2H 8S9\, Canada
CATEGORIES:Executive Members
END:VEVENT
BEGIN:VEVENT
DTSTART;TZID=America/Toronto:20260209T130000
DTEND;TZID=America/Toronto:20260209T160000
DTSTAMP:20260423T044145
CREATED:20250611T190558Z
LAST-MODIFIED:20250611T190558Z
UID:7561-1770642000-1770652800@www.ocetfo.ca
SUMMARY:Executive Meeting
DESCRIPTION:
URL:https://www.ocetfo.ca/event/executive-meeting-94/
LOCATION:OC ETFO/FEEO Office\, 1150 Morrison Dr.\, Ottawa\, ON\, ON\, K2H 8S9\, Canada
CATEGORIES:Executive Members
END:VEVENT
BEGIN:VEVENT
DTSTART;TZID=America/Toronto:20260223T163000
DTEND;TZID=America/Toronto:20260223T183000
DTSTAMP:20260423T044145
CREATED:20250611T190638Z
LAST-MODIFIED:20250611T190638Z
UID:7563-1771864200-1771871400@www.ocetfo.ca
SUMMARY:Executive Meeting
DESCRIPTION:
URL:https://www.ocetfo.ca/event/executive-meeting-95/
LOCATION:OC ETFO/FEEO Office\, 1150 Morrison Dr.\, Ottawa\, ON\, ON\, K2H 8S9\, Canada
CATEGORIES:Executive Members
END:VEVENT
BEGIN:VEVENT
DTSTART;TZID=America/Toronto:20260309T130000
DTEND;TZID=America/Toronto:20260309T160000
DTSTAMP:20260423T044145
CREATED:20250611T190711Z
LAST-MODIFIED:20250611T190711Z
UID:7565-1773061200-1773072000@www.ocetfo.ca
SUMMARY:Executive Meeting
DESCRIPTION:
URL:https://www.ocetfo.ca/event/executive-meeting-96/
LOCATION:OC ETFO/FEEO Office\, 1150 Morrison Dr.\, Ottawa\, ON\, ON\, K2H 8S9\, Canada
CATEGORIES:Executive Members
END:VEVENT
BEGIN:VEVENT
DTSTART;TZID=America/Toronto:20260330T163000
DTEND;TZID=America/Toronto:20260330T183000
DTSTAMP:20260423T044145
CREATED:20250611T190742Z
LAST-MODIFIED:20250611T190742Z
UID:7567-1774888200-1774895400@www.ocetfo.ca
SUMMARY:Executive Meeting
DESCRIPTION:
URL:https://www.ocetfo.ca/event/executive-meeting-97/
LOCATION:OC ETFO/FEEO Office\, 1150 Morrison Dr.\, Ottawa\, ON\, ON\, K2H 8S9\, Canada
CATEGORIES:Executive Members
END:VEVENT
BEGIN:VEVENT
DTSTART;TZID=America/Toronto:20260413T130000
DTEND;TZID=America/Toronto:20260413T160000
DTSTAMP:20260423T044145
CREATED:20250611T190807Z
LAST-MODIFIED:20250611T193127Z
UID:7569-1776085200-1776096000@www.ocetfo.ca
SUMMARY:Executive Meeting
DESCRIPTION:
URL:https://www.ocetfo.ca/event/executive-meeting-98/
LOCATION:OC ETFO/FEEO Office\, 1150 Morrison Dr.\, Ottawa\, ON\, ON\, K2H 8S9\, Canada
CATEGORIES:Executive Members
END:VEVENT
BEGIN:VEVENT
DTSTART;TZID=America/Toronto:20260428T163000
DTEND;TZID=America/Toronto:20260428T183000
DTSTAMP:20260423T044145
CREATED:20250611T190839Z
LAST-MODIFIED:20250611T193201Z
UID:7571-1777393800-1777401000@www.ocetfo.ca
SUMMARY:Executive Meeting
DESCRIPTION:
URL:https://www.ocetfo.ca/event/executive-meeting-99/
LOCATION:OC ETFO/FEEO Office\, 1150 Morrison Dr.\, Ottawa\, ON\, ON\, K2H 8S9\, Canada
CATEGORIES:Executive Members
END:VEVENT
BEGIN:VEVENT
DTSTART;TZID=America/Toronto:20260511T130000
DTEND;TZID=America/Toronto:20260511T160000
DTSTAMP:20260423T044145
CREATED:20250611T190916Z
LAST-MODIFIED:20250611T190916Z
UID:7573-1778504400-1778515200@www.ocetfo.ca
SUMMARY:Executive Meeting
DESCRIPTION:
URL:https://www.ocetfo.ca/event/executive-meeting-100/
LOCATION:OC ETFO/FEEO Office\, 1150 Morrison Dr.\, Ottawa\, ON\, ON\, K2H 8S9\, Canada
CATEGORIES:Executive Members
END:VEVENT
BEGIN:VEVENT
DTSTART;TZID=America/Toronto:20260525T163000
DTEND;TZID=America/Toronto:20260525T183000
DTSTAMP:20260423T044145
CREATED:20250611T190944Z
LAST-MODIFIED:20250611T190944Z
UID:7575-1779726600-1779733800@www.ocetfo.ca
SUMMARY:Executive Meeting
DESCRIPTION:
URL:https://www.ocetfo.ca/event/executive-meeting-101/
LOCATION:OC ETFO/FEEO Office\, 1150 Morrison Dr.\, Ottawa\, ON\, ON\, K2H 8S9\, Canada
CATEGORIES:Executive Members
END:VEVENT
BEGIN:VEVENT
DTSTART;TZID=America/Toronto:20260608T130000
DTEND;TZID=America/Toronto:20260608T160000
DTSTAMP:20260423T044145
CREATED:20250611T192722Z
LAST-MODIFIED:20250611T192734Z
UID:7577-1780923600-1780934400@www.ocetfo.ca
SUMMARY:Executive Meeting
DESCRIPTION:
URL:https://www.ocetfo.ca/event/executive-meeting-102/
LOCATION:OC ETFO/FEEO Office\, 1150 Morrison Dr.\, Ottawa\, ON\, ON\, K2H 8S9\, Canada
CATEGORIES:Executive Members
END:VEVENT
BEGIN:VEVENT
DTSTART;TZID=America/Toronto:20260622T163000
DTEND;TZID=America/Toronto:20260622T200000
DTSTAMP:20260423T044145
CREATED:20250611T192810Z
LAST-MODIFIED:20250611T192810Z
UID:7579-1782145800-1782158400@www.ocetfo.ca
SUMMARY:Summer Social Dinner
DESCRIPTION:
URL:https://www.ocetfo.ca/event/summer-social-dinner/
LOCATION:ON
CATEGORIES:CBC Members,Executive Members
END:VEVENT
END:VCALENDAR