BEGIN:VCALENDAR
VERSION:2.0
PRODID:-//The Ottawa-Carleton Elementary Teachers’ Federation - ECPv6.13.2.1//NONSGML v1.0//EN
CALSCALE:GREGORIAN
METHOD:PUBLISH
X-WR-CALNAME:The Ottawa-Carleton Elementary Teachers’ Federation
X-ORIGINAL-URL:https://www.ocetfo.ca
X-WR-CALDESC:Events for The Ottawa-Carleton Elementary Teachers’ Federation
REFRESH-INTERVAL;VALUE=DURATION:PT1H
X-Robots-Tag:noindex
X-PUBLISHED-TTL:PT1H
BEGIN:VTIMEZONE
TZID:America/Toronto
BEGIN:DAYLIGHT
TZOFFSETFROM:-0500
TZOFFSETTO:-0400
TZNAME:EDT
DTSTART:20230312T070000
END:DAYLIGHT
BEGIN:STANDARD
TZOFFSETFROM:-0400
TZOFFSETTO:-0500
TZNAME:EST
DTSTART:20231105T060000
END:STANDARD
BEGIN:DAYLIGHT
TZOFFSETFROM:-0500
TZOFFSETTO:-0400
TZNAME:EDT
DTSTART:20240310T070000
END:DAYLIGHT
BEGIN:STANDARD
TZOFFSETFROM:-0400
TZOFFSETTO:-0500
TZNAME:EST
DTSTART:20241103T060000
END:STANDARD
END:VTIMEZONE
BEGIN:VEVENT
DTSTART;TZID=America/Toronto:20240617T163000
DTEND;TZID=America/Toronto:20240617T183000
DTSTAMP:20260419T161435
CREATED:20230912T154650Z
LAST-MODIFIED:20230925T124828Z
UID:2949-1718641800-1718649000@www.ocetfo.ca
SUMMARY:Executive Meeting
DESCRIPTION:
URL:https://www.ocetfo.ca/event/executive-meeting-51/
LOCATION:OC ETFO/FEEO Office\, 1150 Morrison Dr.\, Ottawa\, ON\, ON\, K2H 8S9\, Canada
CATEGORIES:Executive Members
END:VEVENT
BEGIN:VEVENT
DTSTART;TZID=America/Toronto:20240603T130000
DTEND;TZID=America/Toronto:20240603T150000
DTSTAMP:20260419T161435
CREATED:20230912T155022Z
LAST-MODIFIED:20230925T124934Z
UID:2951-1717419600-1717426800@www.ocetfo.ca
SUMMARY:Executive Meeting
DESCRIPTION:
URL:https://www.ocetfo.ca/event/executive-meeting-52/
LOCATION:OC ETFO/FEEO Office\, 1150 Morrison Dr.\, Ottawa\, ON\, ON\, K2H 8S9\, Canada
CATEGORIES:Executive Members
END:VEVENT
BEGIN:VEVENT
DTSTART;TZID=America/Toronto:20240527T130000
DTEND;TZID=America/Toronto:20240527T150000
DTSTAMP:20260419T161435
CREATED:20230912T154555Z
LAST-MODIFIED:20230925T125007Z
UID:2947-1716814800-1716822000@www.ocetfo.ca
SUMMARY:Executive Meeting
DESCRIPTION:
URL:https://www.ocetfo.ca/event/executive-meeting-50/
LOCATION:OC ETFO/FEEO Office\, 1150 Morrison Dr.\, Ottawa\, ON\, ON\, K2H 8S9\, Canada
CATEGORIES:Executive Members
END:VEVENT
BEGIN:VEVENT
DTSTART;TZID=America/Toronto:20240513T163000
DTEND;TZID=America/Toronto:20240513T183000
DTSTAMP:20260419T161435
CREATED:20230912T154510Z
LAST-MODIFIED:20230925T125030Z
UID:2945-1715617800-1715625000@www.ocetfo.ca
SUMMARY:Executive Meeting
DESCRIPTION:
URL:https://www.ocetfo.ca/event/executive-meeting-49/
LOCATION:OC ETFO/FEEO Office\, 1150 Morrison Dr.\, Ottawa\, ON\, ON\, K2H 8S9\, Canada
CATEGORIES:Executive Members
END:VEVENT
BEGIN:VEVENT
DTSTART;TZID=America/Toronto:20240415T130000
DTEND;TZID=America/Toronto:20240415T150000
DTSTAMP:20260419T161435
CREATED:20230912T154430Z
LAST-MODIFIED:20230925T125047Z
UID:2943-1713186000-1713193200@www.ocetfo.ca
SUMMARY:Executive Meeting
DESCRIPTION:
URL:https://www.ocetfo.ca/event/executive-meeting-48/
LOCATION:OC ETFO/FEEO Office\, 1150 Morrison Dr.\, Ottawa\, ON\, ON\, K2H 8S9\, Canada
CATEGORIES:Executive Members
END:VEVENT
BEGIN:VEVENT
DTSTART;TZID=America/Toronto:20240402T163000
DTEND;TZID=America/Toronto:20240402T183000
DTSTAMP:20260419T161435
CREATED:20230912T154359Z
LAST-MODIFIED:20230925T125058Z
UID:2941-1712075400-1712082600@www.ocetfo.ca
SUMMARY:Executive Meeting
DESCRIPTION:
URL:https://www.ocetfo.ca/event/executive-meeting-47/
LOCATION:OC ETFO/FEEO Office\, 1150 Morrison Dr.\, Ottawa\, ON\, ON\, K2H 8S9\, Canada
CATEGORIES:Executive Members
END:VEVENT
BEGIN:VEVENT
DTSTART;TZID=America/Toronto:20240318T130000
DTEND;TZID=America/Toronto:20240318T150000
DTSTAMP:20260419T161435
CREATED:20230912T154315Z
LAST-MODIFIED:20230925T125108Z
UID:2939-1710766800-1710774000@www.ocetfo.ca
SUMMARY:Executive Meeting
DESCRIPTION:
URL:https://www.ocetfo.ca/event/executive-meeting-46/
LOCATION:OC ETFO/FEEO Office\, 1150 Morrison Dr.\, Ottawa\, ON\, ON\, K2H 8S9\, Canada
CATEGORIES:Executive Members
END:VEVENT
BEGIN:VEVENT
DTSTART;TZID=America/Toronto:20240304T163000
DTEND;TZID=America/Toronto:20240304T183000
DTSTAMP:20260419T161435
CREATED:20230912T154241Z
LAST-MODIFIED:20230925T125118Z
UID:2937-1709569800-1709577000@www.ocetfo.ca
SUMMARY:Executive Meeting
DESCRIPTION:
URL:https://www.ocetfo.ca/event/executive-meeting-45/
LOCATION:OC ETFO/FEEO Office\, 1150 Morrison Dr.\, Ottawa\, ON\, ON\, K2H 8S9\, Canada
CATEGORIES:Executive Members
END:VEVENT
BEGIN:VEVENT
DTSTART;TZID=America/Toronto:20240220T130000
DTEND;TZID=America/Toronto:20240220T150000
DTSTAMP:20260419T161435
CREATED:20230912T154108Z
LAST-MODIFIED:20230925T125136Z
UID:2935-1708434000-1708441200@www.ocetfo.ca
SUMMARY:Executive Meeting
DESCRIPTION:
URL:https://www.ocetfo.ca/event/executive-meeting-44/
LOCATION:OC ETFO/FEEO Office\, 1150 Morrison Dr.\, Ottawa\, ON\, ON\, K2H 8S9\, Canada
CATEGORIES:Executive Members
END:VEVENT
BEGIN:VEVENT
DTSTART;TZID=America/Toronto:20240205T163000
DTEND;TZID=America/Toronto:20240205T183000
DTSTAMP:20260419T161435
CREATED:20230912T154032Z
LAST-MODIFIED:20230925T125145Z
UID:2933-1707150600-1707157800@www.ocetfo.ca
SUMMARY:Executive Meeting
DESCRIPTION:
URL:https://www.ocetfo.ca/event/executive-meeting-43/
LOCATION:OC ETFO/FEEO Office\, 1150 Morrison Dr.\, Ottawa\, ON\, ON\, K2H 8S9\, Canada
CATEGORIES:Executive Members
END:VEVENT
BEGIN:VEVENT
DTSTART;TZID=America/Toronto:20240122T130000
DTEND;TZID=America/Toronto:20240122T150000
DTSTAMP:20260419T161435
CREATED:20230912T153959Z
LAST-MODIFIED:20230925T125156Z
UID:2931-1705928400-1705935600@www.ocetfo.ca
SUMMARY:Executive Meeting
DESCRIPTION:
URL:https://www.ocetfo.ca/event/executive-meeting-42/
LOCATION:OC ETFO/FEEO Office\, 1150 Morrison Dr.\, Ottawa\, ON\, ON\, K2H 8S9\, Canada
CATEGORIES:Executive Members
END:VEVENT
BEGIN:VEVENT
DTSTART;TZID=America/Toronto:20240108T163000
DTEND;TZID=America/Toronto:20240108T183000
DTSTAMP:20260419T161435
CREATED:20230912T153911Z
LAST-MODIFIED:20230925T125211Z
UID:2929-1704731400-1704738600@www.ocetfo.ca
SUMMARY:Executive Meeting
DESCRIPTION:
URL:https://www.ocetfo.ca/event/executive-meeting-41/
LOCATION:OC ETFO/FEEO Office\, 1150 Morrison Dr.\, Ottawa\, ON\, ON\, K2H 8S9\, Canada
CATEGORIES:Executive Members
END:VEVENT
BEGIN:VEVENT
DTSTART;TZID=America/Toronto:20231218T163000
DTEND;TZID=America/Toronto:20231218T183000
DTSTAMP:20260419T161435
CREATED:20230912T153811Z
LAST-MODIFIED:20230925T125220Z
UID:2927-1702917000-1702924200@www.ocetfo.ca
SUMMARY:Executive Meeting
DESCRIPTION:
URL:https://www.ocetfo.ca/event/executive-meeting-40/
LOCATION:OC ETFO/FEEO Office\, 1150 Morrison Dr.\, Ottawa\, ON\, ON\, K2H 8S9\, Canada
CATEGORIES:Executive Members
END:VEVENT
BEGIN:VEVENT
DTSTART;TZID=America/Toronto:20231206T130000
DTEND;TZID=America/Toronto:20231206T150000
DTSTAMP:20260419T161435
CREATED:20230912T153729Z
LAST-MODIFIED:20231107T154157Z
UID:2925-1701867600-1701874800@www.ocetfo.ca
SUMMARY:Executive Meeting
DESCRIPTION:
URL:https://www.ocetfo.ca/event/executive-meeting-39/
LOCATION:OC ETFO/FEEO Office\, 1150 Morrison Dr.\, Ottawa\, ON\, ON\, K2H 8S9\, Canada
CATEGORIES:Executive Members
END:VEVENT
BEGIN:VEVENT
DTSTART;TZID=America/Toronto:20231120T163000
DTEND;TZID=America/Toronto:20231120T183000
DTSTAMP:20260419T161435
CREATED:20230912T153552Z
LAST-MODIFIED:20230925T125245Z
UID:2923-1700497800-1700505000@www.ocetfo.ca
SUMMARY:Executive Meeting
DESCRIPTION:
URL:https://www.ocetfo.ca/event/executive-meeting-38/
LOCATION:OC ETFO/FEEO Office\, 1150 Morrison Dr.\, Ottawa\, ON\, ON\, K2H 8S9\, Canada
CATEGORIES:Executive Members
END:VEVENT
BEGIN:VEVENT
DTSTART;TZID=America/Toronto:20231106T163000
DTEND;TZID=America/Toronto:20231106T183000
DTSTAMP:20260419T161435
CREATED:20230912T153257Z
LAST-MODIFIED:20230925T125301Z
UID:2921-1699288200-1699295400@www.ocetfo.ca
SUMMARY:Executive Meeting
DESCRIPTION:
URL:https://www.ocetfo.ca/event/executive-meeting-37/
LOCATION:OC ETFO/FEEO Office\, 1150 Morrison Dr.\, Ottawa\, ON\, ON\, K2H 8S9\, Canada
CATEGORIES:Executive Members
END:VEVENT
BEGIN:VEVENT
DTSTART;TZID=America/Toronto:20231023T130000
DTEND;TZID=America/Toronto:20231023T150000
DTSTAMP:20260419T161435
CREATED:20230912T152935Z
LAST-MODIFIED:20230925T125312Z
UID:2918-1698066000-1698073200@www.ocetfo.ca
SUMMARY:Executive Meeting
DESCRIPTION:
URL:https://www.ocetfo.ca/event/executive-meeting-36/
LOCATION:OC ETFO/FEEO Office\, 1150 Morrison Dr.\, Ottawa\, ON\, ON\, K2H 8S9\, Canada
CATEGORIES:Executive Members
END:VEVENT
BEGIN:VEVENT
DTSTART;VALUE=DATE:20231013
DTEND;VALUE=DATE:20231014
DTSTAMP:20260419T161435
CREATED:20230912T151957Z
LAST-MODIFIED:20230912T174505Z
UID:2915-1697155200-1697241599@www.ocetfo.ca
SUMMARY:Executive Meeting
DESCRIPTION:Retreat – Full Day Event
URL:https://www.ocetfo.ca/event/executive-meeting-retreat/
LOCATION:OC ETFO/FEEO Office\, 1150 Morrison Dr.\, Ottawa\, ON\, ON\, K2H 8S9\, Canada
CATEGORIES:Executive Members
END:VEVENT
BEGIN:VEVENT
DTSTART;TZID=America/Toronto:20230926T130000
DTEND;TZID=America/Toronto:20230926T150000
DTSTAMP:20260419T161435
CREATED:20230912T151514Z
LAST-MODIFIED:20230925T124724Z
UID:2913-1695733200-1695740400@www.ocetfo.ca
SUMMARY:Executive Meeting
DESCRIPTION:
URL:https://www.ocetfo.ca/event/executive-meeting-35/
LOCATION:OC ETFO/FEEO Office\, 1150 Morrison Dr.\, Ottawa\, ON\, ON\, K2H 8S9\, Canada
CATEGORIES:Executive Members
END:VEVENT
BEGIN:VEVENT
DTSTART;TZID=America/Toronto:20230911T163000
DTEND;TZID=America/Toronto:20230911T193000
DTSTAMP:20260419T161435
CREATED:20230912T151111Z
LAST-MODIFIED:20230912T174529Z
UID:2909-1694449800-1694460600@www.ocetfo.ca
SUMMARY:Executive Meeting
DESCRIPTION:
URL:https://www.ocetfo.ca/event/executive-meeting-34/
LOCATION:OC ETFO/FEEO Office\, 1150 Morrison Dr.\, Ottawa\, ON\, ON\, K2H 8S9\, Canada
CATEGORIES:Executive Members
END:VEVENT
BEGIN:VEVENT
DTSTART;TZID=America/Toronto:20230622T163000
DTEND;TZID=America/Toronto:20230622T183000
DTSTAMP:20260419T161435
CREATED:20220627T142841Z
LAST-MODIFIED:20230529T180848Z
UID:1915-1687451400-1687458600@www.ocetfo.ca
SUMMARY:Council
DESCRIPTION:
URL:https://www.ocetfo.ca/event/council-8/
LOCATION:Holiday Inn Ottawa East\, 1199 Joseph Cyr St\, Ottawa\, ON\, K1J 7T4\, Canada
CATEGORIES:CBC Members,Executive Members,Stewards
END:VEVENT
BEGIN:VEVENT
DTSTART;TZID=America/Toronto:20230619T163000
DTEND;TZID=America/Toronto:20230619T183000
DTSTAMP:20260419T161435
CREATED:20220916T150612Z
LAST-MODIFIED:20220916T150612Z
UID:2151-1687192200-1687199400@www.ocetfo.ca
SUMMARY:Executive Meeting
DESCRIPTION:
URL:https://www.ocetfo.ca/event/executive-meeting-33/
LOCATION:OC ETFO/FEEO Office\, 1150 Morrison Dr.\, Ottawa\, ON\, ON\, K2H 8S9\, Canada
CATEGORIES:Executive Members
END:VEVENT
BEGIN:VEVENT
DTSTART;TZID=America/Toronto:20230605T130000
DTEND;TZID=America/Toronto:20230605T160000
DTSTAMP:20260419T161435
CREATED:20220916T150537Z
LAST-MODIFIED:20220916T150537Z
UID:2149-1685970000-1685980800@www.ocetfo.ca
SUMMARY:Executive Meeting
DESCRIPTION:
URL:https://www.ocetfo.ca/event/executive-meeting-32/
LOCATION:OC ETFO/FEEO Office\, 1150 Morrison Dr.\, Ottawa\, ON\, ON\, K2H 8S9\, Canada
CATEGORIES:Executive Members
END:VEVENT
BEGIN:VEVENT
DTSTART;TZID=America/Toronto:20230530T163000
DTEND;TZID=America/Toronto:20230530T183000
DTSTAMP:20260419T161435
CREATED:20230504T171215Z
LAST-MODIFIED:20230504T171215Z
UID:2750-1685464200-1685471400@www.ocetfo.ca
SUMMARY:Steward Plus One
DESCRIPTION:
URL:https://www.ocetfo.ca/event/steward-plus-one/
LOCATION:Nepean Sportsplex\, 1701 Woodroffe Ave\, Nepean\, ON\, K2G 1W2\, Canada
CATEGORIES:CBC Members,Executive Members,Stewards
END:VEVENT
BEGIN:VEVENT
DTSTART;TZID=America/Toronto:20230524T163000
DTEND;TZID=America/Toronto:20230524T193000
DTSTAMP:20260419T161435
CREATED:20220627T142807Z
LAST-MODIFIED:20230109T150840Z
UID:1913-1684945800-1684956600@www.ocetfo.ca
SUMMARY:Annual General Meeting
DESCRIPTION:
URL:https://www.ocetfo.ca/event/annual-general-meeting-3/
LOCATION:Marconi Centre\, 1026 Baseline Rd\, Ottawa\, ON\, K2C 0A6\, Canada
CATEGORIES:All Members,CBC Members,Executive Members,Stewards
END:VEVENT
BEGIN:VEVENT
DTSTART;TZID=America/Toronto:20230515T130000
DTEND;TZID=America/Toronto:20230515T160000
DTSTAMP:20260419T161435
CREATED:20220916T150456Z
LAST-MODIFIED:20220916T150456Z
UID:2147-1684155600-1684166400@www.ocetfo.ca
SUMMARY:Executive Meeting
DESCRIPTION:
URL:https://www.ocetfo.ca/event/executive-meeting-31/
LOCATION:OC ETFO/FEEO Office\, 1150 Morrison Dr.\, Ottawa\, ON\, ON\, K2H 8S9\, Canada
CATEGORIES:Executive Members
END:VEVENT
BEGIN:VEVENT
DTSTART;TZID=America/Toronto:20230501T163000
DTEND;TZID=America/Toronto:20230501T183000
DTSTAMP:20260419T161435
CREATED:20220916T150420Z
LAST-MODIFIED:20220916T150420Z
UID:2145-1682958600-1682965800@www.ocetfo.ca
SUMMARY:Executive Meeting
DESCRIPTION:
URL:https://www.ocetfo.ca/event/executive-meeting-30/
LOCATION:OC ETFO/FEEO Office\, 1150 Morrison Dr.\, Ottawa\, ON\, ON\, K2H 8S9\, Canada
CATEGORIES:Executive Members
END:VEVENT
BEGIN:VEVENT
DTSTART;TZID=America/Toronto:20230419T163000
DTEND;TZID=America/Toronto:20230419T183000
DTSTAMP:20260419T161435
CREATED:20220627T142714Z
LAST-MODIFIED:20221216T205537Z
UID:1911-1681921800-1681929000@www.ocetfo.ca
SUMMARY:Council
DESCRIPTION:
URL:https://www.ocetfo.ca/event/council-7/
LOCATION:Holiday Inn Ottawa East\, 1199 Joseph Cyr St\, Ottawa\, ON\, K1J 7T4\, Canada
CATEGORIES:CBC Members,Executive Members,Stewards
END:VEVENT
BEGIN:VEVENT
DTSTART;TZID=America/Toronto:20230417T130000
DTEND;TZID=America/Toronto:20230417T160000
DTSTAMP:20260419T161435
CREATED:20220916T150344Z
LAST-MODIFIED:20220916T150344Z
UID:2143-1681736400-1681747200@www.ocetfo.ca
SUMMARY:Executive Meeting
DESCRIPTION:
URL:https://www.ocetfo.ca/event/executive-meeting-29/
LOCATION:OC ETFO/FEEO Office\, 1150 Morrison Dr.\, Ottawa\, ON\, ON\, K2H 8S9\, Canada
CATEGORIES:Executive Members
END:VEVENT
BEGIN:VEVENT
DTSTART;TZID=America/Toronto:20230403T163000
DTEND;TZID=America/Toronto:20230403T183000
DTSTAMP:20260419T161435
CREATED:20220916T150258Z
LAST-MODIFIED:20220916T150258Z
UID:2141-1680539400-1680546600@www.ocetfo.ca
SUMMARY:Executive Meeting
DESCRIPTION:
URL:https://www.ocetfo.ca/event/executive-meeting-28/
LOCATION:OC ETFO/FEEO Office\, 1150 Morrison Dr.\, Ottawa\, ON\, ON\, K2H 8S9\, Canada
CATEGORIES:Executive Members
END:VEVENT
END:VCALENDAR