BEGIN:VCALENDAR
VERSION:2.0
PRODID:-//The Ottawa-Carleton Elementary Teachers’ Federation - ECPv6.13.2.1//NONSGML v1.0//EN
CALSCALE:GREGORIAN
METHOD:PUBLISH
X-WR-CALNAME:The Ottawa-Carleton Elementary Teachers’ Federation
X-ORIGINAL-URL:https://www.ocetfo.ca
X-WR-CALDESC:Events for The Ottawa-Carleton Elementary Teachers’ Federation
REFRESH-INTERVAL;VALUE=DURATION:PT1H
X-Robots-Tag:noindex
X-PUBLISHED-TTL:PT1H
BEGIN:VTIMEZONE
TZID:America/Toronto
BEGIN:DAYLIGHT
TZOFFSETFROM:-0500
TZOFFSETTO:-0400
TZNAME:EDT
DTSTART:20220313T070000
END:DAYLIGHT
BEGIN:STANDARD
TZOFFSETFROM:-0400
TZOFFSETTO:-0500
TZNAME:EST
DTSTART:20221106T060000
END:STANDARD
BEGIN:DAYLIGHT
TZOFFSETFROM:-0500
TZOFFSETTO:-0400
TZNAME:EDT
DTSTART:20230312T070000
END:DAYLIGHT
BEGIN:STANDARD
TZOFFSETFROM:-0400
TZOFFSETTO:-0500
TZNAME:EST
DTSTART:20231105T060000
END:STANDARD
END:VTIMEZONE
BEGIN:VEVENT
DTSTART;TZID=America/Toronto:20230524T163000
DTEND;TZID=America/Toronto:20230524T193000
DTSTAMP:20260419T195505
CREATED:20220627T142807Z
LAST-MODIFIED:20230109T150840Z
UID:1913-1684945800-1684956600@www.ocetfo.ca
SUMMARY:Annual General Meeting
DESCRIPTION:
URL:https://www.ocetfo.ca/event/annual-general-meeting-3/
LOCATION:Marconi Centre\, 1026 Baseline Rd\, Ottawa\, ON\, K2C 0A6\, Canada
CATEGORIES:All Members,CBC Members,Executive Members,Stewards
END:VEVENT
BEGIN:VEVENT
DTSTART;TZID=America/Toronto:20230515T130000
DTEND;TZID=America/Toronto:20230515T160000
DTSTAMP:20260419T195505
CREATED:20220916T150456Z
LAST-MODIFIED:20220916T150456Z
UID:2147-1684155600-1684166400@www.ocetfo.ca
SUMMARY:Executive Meeting
DESCRIPTION:
URL:https://www.ocetfo.ca/event/executive-meeting-31/
LOCATION:OC ETFO/FEEO Office\, 1150 Morrison Dr.\, Ottawa\, ON\, ON\, K2H 8S9\, Canada
CATEGORIES:Executive Members
END:VEVENT
BEGIN:VEVENT
DTSTART;TZID=America/Toronto:20230501T163000
DTEND;TZID=America/Toronto:20230501T183000
DTSTAMP:20260419T195505
CREATED:20220916T150420Z
LAST-MODIFIED:20220916T150420Z
UID:2145-1682958600-1682965800@www.ocetfo.ca
SUMMARY:Executive Meeting
DESCRIPTION:
URL:https://www.ocetfo.ca/event/executive-meeting-30/
LOCATION:OC ETFO/FEEO Office\, 1150 Morrison Dr.\, Ottawa\, ON\, ON\, K2H 8S9\, Canada
CATEGORIES:Executive Members
END:VEVENT
BEGIN:VEVENT
DTSTART;TZID=America/Toronto:20230419T163000
DTEND;TZID=America/Toronto:20230419T183000
DTSTAMP:20260419T195505
CREATED:20220627T142714Z
LAST-MODIFIED:20221216T205537Z
UID:1911-1681921800-1681929000@www.ocetfo.ca
SUMMARY:Council
DESCRIPTION:
URL:https://www.ocetfo.ca/event/council-7/
LOCATION:Holiday Inn Ottawa East\, 1199 Joseph Cyr St\, Ottawa\, ON\, K1J 7T4\, Canada
CATEGORIES:CBC Members,Executive Members,Stewards
END:VEVENT
BEGIN:VEVENT
DTSTART;TZID=America/Toronto:20230417T130000
DTEND;TZID=America/Toronto:20230417T160000
DTSTAMP:20260419T195505
CREATED:20220916T150344Z
LAST-MODIFIED:20220916T150344Z
UID:2143-1681736400-1681747200@www.ocetfo.ca
SUMMARY:Executive Meeting
DESCRIPTION:
URL:https://www.ocetfo.ca/event/executive-meeting-29/
LOCATION:OC ETFO/FEEO Office\, 1150 Morrison Dr.\, Ottawa\, ON\, ON\, K2H 8S9\, Canada
CATEGORIES:Executive Members
END:VEVENT
BEGIN:VEVENT
DTSTART;TZID=America/Toronto:20230403T163000
DTEND;TZID=America/Toronto:20230403T183000
DTSTAMP:20260419T195505
CREATED:20220916T150258Z
LAST-MODIFIED:20220916T150258Z
UID:2141-1680539400-1680546600@www.ocetfo.ca
SUMMARY:Executive Meeting
DESCRIPTION:
URL:https://www.ocetfo.ca/event/executive-meeting-28/
LOCATION:OC ETFO/FEEO Office\, 1150 Morrison Dr.\, Ottawa\, ON\, ON\, K2H 8S9\, Canada
CATEGORIES:Executive Members
END:VEVENT
BEGIN:VEVENT
DTSTART;TZID=America/Toronto:20230322T163000
DTEND;TZID=America/Toronto:20230322T183000
DTSTAMP:20260419T195505
CREATED:20220627T142632Z
LAST-MODIFIED:20230109T150446Z
UID:1909-1679502600-1679509800@www.ocetfo.ca
SUMMARY:Council
DESCRIPTION:
URL:https://www.ocetfo.ca/event/council-6/
LOCATION:Marconi Centre\, 1026 Baseline Rd\, Ottawa\, ON\, K2C 0A6\, Canada
CATEGORIES:CBC Members,Executive Members,Stewards
END:VEVENT
BEGIN:VEVENT
DTSTART;TZID=America/Toronto:20230320T130000
DTEND;TZID=America/Toronto:20230320T160000
DTSTAMP:20260419T195505
CREATED:20220916T150224Z
LAST-MODIFIED:20220916T150224Z
UID:2139-1679317200-1679328000@www.ocetfo.ca
SUMMARY:Executive Meeting
DESCRIPTION:
URL:https://www.ocetfo.ca/event/executive-meeting-27/
LOCATION:OC ETFO/FEEO Office\, 1150 Morrison Dr.\, Ottawa\, ON\, ON\, K2H 8S9\, Canada
CATEGORIES:Executive Members
END:VEVENT
BEGIN:VEVENT
DTSTART;TZID=America/Toronto:20230306T163000
DTEND;TZID=America/Toronto:20230306T183000
DTSTAMP:20260419T195505
CREATED:20220916T150146Z
LAST-MODIFIED:20220916T150146Z
UID:2137-1678120200-1678127400@www.ocetfo.ca
SUMMARY:Executive Meeting
DESCRIPTION:
URL:https://www.ocetfo.ca/event/executive-meeting-26/
LOCATION:OC ETFO/FEEO Office\, 1150 Morrison Dr.\, Ottawa\, ON\, ON\, K2H 8S9\, Canada
CATEGORIES:Executive Members
END:VEVENT
BEGIN:VEVENT
DTSTART;TZID=America/Toronto:20230227T130000
DTEND;TZID=America/Toronto:20230227T160000
DTSTAMP:20260419T195505
CREATED:20220916T150109Z
LAST-MODIFIED:20220916T150109Z
UID:2135-1677502800-1677513600@www.ocetfo.ca
SUMMARY:Executive Meeting
DESCRIPTION:
URL:https://www.ocetfo.ca/event/executive-meeting-25/
LOCATION:OC ETFO/FEEO Office\, 1150 Morrison Dr.\, Ottawa\, ON\, ON\, K2H 8S9\, Canada
CATEGORIES:Executive Members
END:VEVENT
BEGIN:VEVENT
DTSTART;TZID=America/Toronto:20230215T163000
DTEND;TZID=America/Toronto:20230215T183000
DTSTAMP:20260419T195505
CREATED:20220627T142551Z
LAST-MODIFIED:20221216T205428Z
UID:1907-1676478600-1676485800@www.ocetfo.ca
SUMMARY:General Meeting/Council
DESCRIPTION:
URL:https://www.ocetfo.ca/event/general-meeting-council/
LOCATION:Holiday Inn Ottawa East\, 1199 Joseph Cyr St\, Ottawa\, ON\, K1J 7T4\, Canada
CATEGORIES:All Members,CBC Members,Executive Members,Stewards
END:VEVENT
BEGIN:VEVENT
DTSTART;TZID=America/Toronto:20230213T163000
DTEND;TZID=America/Toronto:20230213T183000
DTSTAMP:20260419T195505
CREATED:20220916T150026Z
LAST-MODIFIED:20220916T150026Z
UID:2133-1676305800-1676313000@www.ocetfo.ca
SUMMARY:Executive Meeting
DESCRIPTION:
URL:https://www.ocetfo.ca/event/executive-meeting-24/
LOCATION:OC ETFO/FEEO Office\, 1150 Morrison Dr.\, Ottawa\, ON\, ON\, K2H 8S9\, Canada
CATEGORIES:Executive Members
END:VEVENT
BEGIN:VEVENT
DTSTART;TZID=America/Toronto:20230123T130000
DTEND;TZID=America/Toronto:20230123T160000
DTSTAMP:20260419T195505
CREATED:20220916T145949Z
LAST-MODIFIED:20220916T145949Z
UID:2131-1674478800-1674489600@www.ocetfo.ca
SUMMARY:Executive Meeting
DESCRIPTION:
URL:https://www.ocetfo.ca/event/executive-meeting-23/
LOCATION:OC ETFO/FEEO Office\, 1150 Morrison Dr.\, Ottawa\, ON\, ON\, K2H 8S9\, Canada
CATEGORIES:Executive Members
END:VEVENT
BEGIN:VEVENT
DTSTART;TZID=America/Toronto:20230118T163000
DTEND;TZID=America/Toronto:20230118T183000
DTSTAMP:20260419T195505
CREATED:20220627T142453Z
LAST-MODIFIED:20230109T150347Z
UID:1905-1674059400-1674066600@www.ocetfo.ca
SUMMARY:Council
DESCRIPTION:
URL:https://www.ocetfo.ca/event/council-5/
LOCATION:Marconi Centre\, 1026 Baseline Rd\, Ottawa\, ON\, K2C 0A6\, Canada
CATEGORIES:CBC Members,Executive Members,Stewards
END:VEVENT
BEGIN:VEVENT
DTSTART;TZID=America/Toronto:20230109T163000
DTEND;TZID=America/Toronto:20230109T183000
DTSTAMP:20260419T195505
CREATED:20220916T145909Z
LAST-MODIFIED:20220916T145909Z
UID:2129-1673281800-1673289000@www.ocetfo.ca
SUMMARY:Executive Meeting
DESCRIPTION:
URL:https://www.ocetfo.ca/event/executive-meeting-22/
LOCATION:OC ETFO/FEEO Office\, 1150 Morrison Dr.\, Ottawa\, ON\, ON\, K2H 8S9\, Canada
CATEGORIES:Executive Members
END:VEVENT
BEGIN:VEVENT
DTSTART;TZID=America/Toronto:20221221T163000
DTEND;TZID=America/Toronto:20221221T183000
DTSTAMP:20260419T195505
CREATED:20220627T142206Z
LAST-MODIFIED:20221216T205233Z
UID:1903-1671640200-1671647400@www.ocetfo.ca
SUMMARY:Council
DESCRIPTION:
URL:https://www.ocetfo.ca/event/council-4/
LOCATION:Holiday Inn Ottawa East\, 1199 Joseph Cyr St\, Ottawa\, ON\, K1J 7T4\, Canada
CATEGORIES:CBC Members,Executive Members,Stewards
END:VEVENT
BEGIN:VEVENT
DTSTART;TZID=America/Toronto:20221219T163000
DTEND;TZID=America/Toronto:20221219T183000
DTSTAMP:20260419T195505
CREATED:20220916T145833Z
LAST-MODIFIED:20220916T145833Z
UID:2127-1671467400-1671474600@www.ocetfo.ca
SUMMARY:Executive Meeting
DESCRIPTION:
URL:https://www.ocetfo.ca/event/executive-meeting-21/
LOCATION:OC ETFO/FEEO Office\, 1150 Morrison Dr.\, Ottawa\, ON\, ON\, K2H 8S9\, Canada
CATEGORIES:Executive Members
END:VEVENT
BEGIN:VEVENT
DTSTART;TZID=America/Toronto:20221205T130000
DTEND;TZID=America/Toronto:20221205T160000
DTSTAMP:20260419T195505
CREATED:20220916T145758Z
LAST-MODIFIED:20220916T145758Z
UID:2125-1670245200-1670256000@www.ocetfo.ca
SUMMARY:Executive Meeting
DESCRIPTION:
URL:https://www.ocetfo.ca/event/executive-meeting-20/
LOCATION:OC ETFO/FEEO Office\, 1150 Morrison Dr.\, Ottawa\, ON\, ON\, K2H 8S9\, Canada
CATEGORIES:Executive Members
END:VEVENT
BEGIN:VEVENT
DTSTART;TZID=America/Toronto:20221121T163000
DTEND;TZID=America/Toronto:20221121T183000
DTSTAMP:20260419T195505
CREATED:20220916T145718Z
LAST-MODIFIED:20220916T145718Z
UID:2123-1669048200-1669055400@www.ocetfo.ca
SUMMARY:Executive Meeting
DESCRIPTION:
URL:https://www.ocetfo.ca/event/executive-meeting-19/
LOCATION:OC ETFO/FEEO Office\, 1150 Morrison Dr.\, Ottawa\, ON\, ON\, K2H 8S9\, Canada
CATEGORIES:Executive Members
END:VEVENT
BEGIN:VEVENT
DTSTART;TZID=America/Toronto:20221116T163000
DTEND;TZID=America/Toronto:20221116T183000
DTSTAMP:20260419T195505
CREATED:20220627T142115Z
LAST-MODIFIED:20220627T142115Z
UID:1901-1668616200-1668623400@www.ocetfo.ca
SUMMARY:Council
DESCRIPTION:
URL:https://www.ocetfo.ca/event/council-3/
LOCATION:Algonquin College\, 1385 Woodroffe Ave\, Nepean\, ON\, K2G 1V8
CATEGORIES:CBC Members,Executive Members,Stewards
END:VEVENT
BEGIN:VEVENT
DTSTART;TZID=America/Toronto:20221107T130000
DTEND;TZID=America/Toronto:20221107T160000
DTSTAMP:20260419T195505
CREATED:20220916T145637Z
LAST-MODIFIED:20220916T145637Z
UID:2121-1667826000-1667836800@www.ocetfo.ca
SUMMARY:Executive Meeting
DESCRIPTION:
URL:https://www.ocetfo.ca/event/executive-meeting-18/
LOCATION:OC ETFO/FEEO Office\, 1150 Morrison Dr.\, Ottawa\, ON\, ON\, K2H 8S9\, Canada
CATEGORIES:Executive Members
END:VEVENT
BEGIN:VEVENT
DTSTART;VALUE=DATE:20221027
DTEND;VALUE=DATE:20221028
DTSTAMP:20260419T195505
CREATED:20220916T145552Z
LAST-MODIFIED:20221005T184013Z
UID:2119-1666828800-1666915199@www.ocetfo.ca
SUMMARY:Executive Retreat
DESCRIPTION:
URL:https://www.ocetfo.ca/event/executive-retreat-2/
LOCATION:OC ETFO/FEEO Office\, 1150 Morrison Dr.\, Ottawa\, ON\, ON\, K2H 8S9\, Canada
CATEGORIES:Executive Members
END:VEVENT
BEGIN:VEVENT
DTSTART;TZID=America/Toronto:20221026T163000
DTEND;TZID=America/Toronto:20221026T183000
DTSTAMP:20260419T195505
CREATED:20220627T141804Z
LAST-MODIFIED:20220912T142102Z
UID:1896-1666801800-1666809000@www.ocetfo.ca
SUMMARY:General Meeting/Council
DESCRIPTION:
URL:https://www.ocetfo.ca/event/council-2/
LOCATION:Tudor Hall\, 3750 N Bowesville Rd\, Ottawa\, ON\, K1V 1B8\, Canada
CATEGORIES:CBC Members,Executive Members,Stewards
END:VEVENT
BEGIN:VEVENT
DTSTART;TZID=America/Toronto:20221003T130000
DTEND;TZID=America/Toronto:20221003T160000
DTSTAMP:20260419T195505
CREATED:20220916T145439Z
LAST-MODIFIED:20220916T145439Z
UID:2113-1664802000-1664812800@www.ocetfo.ca
SUMMARY:Executive Meeting
DESCRIPTION:
URL:https://www.ocetfo.ca/event/executive-meeting-17/
LOCATION:OC ETFO/FEEO Office\, 1150 Morrison Dr.\, Ottawa\, ON\, ON\, K2H 8S9\, Canada
CATEGORIES:Executive Members
END:VEVENT
BEGIN:VEVENT
DTSTART;TZID=America/Toronto:20220928T163000
DTEND;TZID=America/Toronto:20220928T183000
DTSTAMP:20260419T195505
CREATED:20220627T141550Z
LAST-MODIFIED:20220829T154933Z
UID:1892-1664382600-1664389800@www.ocetfo.ca
SUMMARY:Council
DESCRIPTION:
URL:https://www.ocetfo.ca/event/council/
LOCATION:Algonquin College\, 1385 Woodroffe Ave\, Nepean\, ON\, K2G 1V8
CATEGORIES:CBC Members,Executive Members,Stewards
END:VEVENT
BEGIN:VEVENT
DTSTART;TZID=America/Toronto:20220627T163000
DTEND;TZID=America/Toronto:20220627T173000
DTSTAMP:20260419T195505
CREATED:20220405T142449Z
LAST-MODIFIED:20220405T142449Z
UID:589-1656347400-1656351000@www.ocetfo.ca
SUMMARY:Exec Meeting
DESCRIPTION:
URL:https://www.ocetfo.ca/event/exec-meeting-17/
LOCATION:ON
CATEGORIES:Executive Members
END:VEVENT
BEGIN:VEVENT
DTSTART;TZID=America/Toronto:20220613T130000
DTEND;TZID=America/Toronto:20220613T160000
DTSTAMP:20260419T195505
CREATED:20220405T142449Z
LAST-MODIFIED:20220405T142449Z
UID:588-1655125200-1655136000@www.ocetfo.ca
SUMMARY:Exec Meeting
DESCRIPTION:
URL:https://www.ocetfo.ca/event/exec-meeting-16/
LOCATION:ON
CATEGORIES:Executive Members
END:VEVENT
BEGIN:VEVENT
DTSTART;TZID=America/Toronto:20220530T163000
DTEND;TZID=America/Toronto:20220530T173000
DTSTAMP:20260419T195505
CREATED:20220405T142449Z
LAST-MODIFIED:20220405T142449Z
UID:587-1653928200-1653931800@www.ocetfo.ca
SUMMARY:Exec Meeting
DESCRIPTION:
URL:https://www.ocetfo.ca/event/exec-meeting-15/
LOCATION:ON
CATEGORIES:Executive Members
END:VEVENT
BEGIN:VEVENT
DTSTART;TZID=America/Toronto:20220509T130000
DTEND;TZID=America/Toronto:20220509T160000
DTSTAMP:20260419T195505
CREATED:20220405T142448Z
LAST-MODIFIED:20220405T142448Z
UID:586-1652101200-1652112000@www.ocetfo.ca
SUMMARY:Exec Meeting
DESCRIPTION:
URL:https://www.ocetfo.ca/event/exec-meeting-14/
LOCATION:ON
CATEGORIES:Executive Members
END:VEVENT
BEGIN:VEVENT
DTSTART;TZID=America/Toronto:20220425T163000
DTEND;TZID=America/Toronto:20220425T173000
DTSTAMP:20260419T195505
CREATED:20220405T142448Z
LAST-MODIFIED:20220405T142448Z
UID:585-1650904200-1650907800@www.ocetfo.ca
SUMMARY:Exec Meeting
DESCRIPTION:
URL:https://www.ocetfo.ca/event/exec-meeting-13/
LOCATION:ON
CATEGORIES:Executive Members
END:VEVENT
END:VCALENDAR