BEGIN:VCALENDAR
VERSION:2.0
PRODID:-//The Ottawa-Carleton Elementary Teachers’ Federation - ECPv6.13.2.1//NONSGML v1.0//EN
CALSCALE:GREGORIAN
METHOD:PUBLISH
X-ORIGINAL-URL:https://www.ocetfo.ca
X-WR-CALDESC:Events for The Ottawa-Carleton Elementary Teachers’ Federation
REFRESH-INTERVAL;VALUE=DURATION:PT1H
X-Robots-Tag:noindex
X-PUBLISHED-TTL:PT1H
BEGIN:VTIMEZONE
TZID:America/Toronto
BEGIN:DAYLIGHT
TZOFFSETFROM:-0500
TZOFFSETTO:-0400
TZNAME:EDT
DTSTART:20200308T070000
END:DAYLIGHT
BEGIN:STANDARD
TZOFFSETFROM:-0400
TZOFFSETTO:-0500
TZNAME:EST
DTSTART:20201101T060000
END:STANDARD
END:VTIMEZONE
BEGIN:VEVENT
DTSTART;VALUE=DATE:20200424
DTEND;VALUE=DATE:20200425
DTSTAMP:20260424T125552
CREATED:20220405T141543Z
LAST-MODIFIED:20220405T141543Z
UID:542-1587686400-1587772799@www.ocetfo.ca
SUMMARY:CANCELLED - Ottawa Carleton ETFO/FEEO PD Day
DESCRIPTION:
URL:https://www.ocetfo.ca/event/cancelled-ottawa-carleton-etfo-feeo-pd-day/
LOCATION:ON
CATEGORIES:Miscellaneous
END:VEVENT
END:VCALENDAR