BEGIN:VCALENDAR
VERSION:2.0
PRODID:-//The Ottawa-Carleton Elementary Teachers’ Federation - ECPv6.13.2.1//NONSGML v1.0//EN
CALSCALE:GREGORIAN
METHOD:PUBLISH
X-WR-CALNAME:The Ottawa-Carleton Elementary Teachers’ Federation
X-ORIGINAL-URL:https://www.ocetfo.ca
X-WR-CALDESC:Events for The Ottawa-Carleton Elementary Teachers’ Federation
REFRESH-INTERVAL;VALUE=DURATION:PT1H
X-Robots-Tag:noindex
X-PUBLISHED-TTL:PT1H
BEGIN:VTIMEZONE
TZID:America/Toronto
BEGIN:DAYLIGHT
TZOFFSETFROM:-0500
TZOFFSETTO:-0400
TZNAME:EDT
DTSTART:20210314T070000
END:DAYLIGHT
BEGIN:STANDARD
TZOFFSETFROM:-0400
TZOFFSETTO:-0500
TZNAME:EST
DTSTART:20211107T060000
END:STANDARD
END:VTIMEZONE
BEGIN:VEVENT
DTSTART;VALUE=DATE:20210906
DTEND;VALUE=DATE:20210907
DTSTAMP:20260421T011450
CREATED:20220405T141446Z
LAST-MODIFIED:20220405T141446Z
UID:537-1630886400-1630972799@www.ocetfo.ca
SUMMARY:Labour Day
DESCRIPTION:
URL:https://www.ocetfo.ca/event/labour-day/
LOCATION:ON
CATEGORIES:Miscellaneous
END:VEVENT
BEGIN:VEVENT
DTSTART;VALUE=DATE:20210909
DTEND;VALUE=DATE:20210910
DTSTAMP:20260421T011450
CREATED:20220405T141446Z
LAST-MODIFIED:20220405T141446Z
UID:538-1631145600-1631231999@www.ocetfo.ca
SUMMARY:First Day of School
DESCRIPTION:
URL:https://www.ocetfo.ca/event/first-day-of-school/
LOCATION:ON
CATEGORIES:Miscellaneous
END:VEVENT
BEGIN:VEVENT
DTSTART;TZID=America/Toronto:20210930T085400
DTEND;TZID=America/Toronto:20210930T085400
DTSTAMP:20260421T011450
CREATED:20220405T141945Z
LAST-MODIFIED:20220405T141945Z
UID:554-1632992040-1632992040@www.ocetfo.ca
SUMMARY:National Day for Truth & Reconciliation
DESCRIPTION:
URL:https://www.ocetfo.ca/event/national-day-for-truth-reconciliation/
LOCATION:ON
CATEGORIES:Miscellaneous
END:VEVENT
END:VCALENDAR