BEGIN:VCALENDAR
VERSION:2.0
PRODID:-//The Ottawa-Carleton Elementary Teachers’ Federation - ECPv6.13.2.1//NONSGML v1.0//EN
CALSCALE:GREGORIAN
METHOD:PUBLISH
X-WR-CALNAME:The Ottawa-Carleton Elementary Teachers’ Federation
X-ORIGINAL-URL:https://www.ocetfo.ca
X-WR-CALDESC:Events for The Ottawa-Carleton Elementary Teachers’ Federation
REFRESH-INTERVAL;VALUE=DURATION:PT1H
X-Robots-Tag:noindex
X-PUBLISHED-TTL:PT1H
BEGIN:VTIMEZONE
TZID:America/Toronto
BEGIN:DAYLIGHT
TZOFFSETFROM:-0500
TZOFFSETTO:-0400
TZNAME:EDT
DTSTART:20210314T070000
END:DAYLIGHT
BEGIN:STANDARD
TZOFFSETFROM:-0400
TZOFFSETTO:-0500
TZNAME:EST
DTSTART:20211107T060000
END:STANDARD
END:VTIMEZONE
BEGIN:VEVENT
DTSTART;TZID=America/Toronto:20211111T135700
DTEND;TZID=America/Toronto:20211111T135700
DTSTAMP:20260423T021448
CREATED:20220405T141944Z
LAST-MODIFIED:20220405T141944Z
UID:552-1636639020-1636639020@www.ocetfo.ca
SUMMARY:Remembrance Day
DESCRIPTION:
URL:https://www.ocetfo.ca/event/remembrance-day/
LOCATION:ON
CATEGORIES:Miscellaneous
END:VEVENT
END:VCALENDAR