BEGIN:VCALENDAR
VERSION:2.0
PRODID:-//The Ottawa-Carleton Elementary Teachers’ Federation - ECPv6.13.2.1//NONSGML v1.0//EN
CALSCALE:GREGORIAN
METHOD:PUBLISH
X-ORIGINAL-URL:https://www.ocetfo.ca
X-WR-CALDESC:Events for The Ottawa-Carleton Elementary Teachers’ Federation
REFRESH-INTERVAL;VALUE=DURATION:PT1H
X-Robots-Tag:noindex
X-PUBLISHED-TTL:PT1H
BEGIN:VTIMEZONE
TZID:America/Toronto
BEGIN:DAYLIGHT
TZOFFSETFROM:-0500
TZOFFSETTO:-0400
TZNAME:EDT
DTSTART:20220313T070000
END:DAYLIGHT
BEGIN:STANDARD
TZOFFSETFROM:-0400
TZOFFSETTO:-0500
TZNAME:EST
DTSTART:20221106T060000
END:STANDARD
END:VTIMEZONE
BEGIN:VEVENT
DTSTART;TZID=America/Toronto:20220630T152300
DTEND;TZID=America/Toronto:20220630T152300
DTSTAMP:20260422T132518
CREATED:20220405T141744Z
LAST-MODIFIED:20220405T141744Z
UID:549-1656602580-1656602580@www.ocetfo.ca
SUMMARY:Last Day of School
DESCRIPTION:
URL:https://www.ocetfo.ca/event/last-day-of-school/
LOCATION:ON
CATEGORIES:Miscellaneous
END:VEVENT
END:VCALENDAR