BEGIN:VCALENDAR
VERSION:2.0
PRODID:-//The Ottawa-Carleton Elementary Teachers’ Federation - ECPv6.13.2.1//NONSGML v1.0//EN
CALSCALE:GREGORIAN
METHOD:PUBLISH
X-WR-CALNAME:The Ottawa-Carleton Elementary Teachers’ Federation
X-ORIGINAL-URL:https://www.ocetfo.ca
X-WR-CALDESC:Events for The Ottawa-Carleton Elementary Teachers’ Federation
REFRESH-INTERVAL;VALUE=DURATION:PT1H
X-Robots-Tag:noindex
X-PUBLISHED-TTL:PT1H
BEGIN:VTIMEZONE
TZID:America/Toronto
BEGIN:DAYLIGHT
TZOFFSETFROM:-0500
TZOFFSETTO:-0400
TZNAME:EDT
DTSTART:20230312T070000
END:DAYLIGHT
BEGIN:STANDARD
TZOFFSETFROM:-0400
TZOFFSETTO:-0500
TZNAME:EST
DTSTART:20231105T060000
END:STANDARD
END:VTIMEZONE
BEGIN:VEVENT
DTSTART;VALUE=DATE:20230220
DTEND;VALUE=DATE:20230221
DTSTAMP:20260420T001431
CREATED:20220627T143357Z
LAST-MODIFIED:20220627T143357Z
UID:1923-1676851200-1676937599@www.ocetfo.ca
SUMMARY:Family Day
DESCRIPTION:
URL:https://www.ocetfo.ca/event/family-day-2/
LOCATION:ON
CATEGORIES:Miscellaneous
END:VEVENT
END:VCALENDAR