BEGIN:VCALENDAR
VERSION:2.0
PRODID:-//The Ottawa-Carleton Elementary Teachers’ Federation - ECPv6.13.2.1//NONSGML v1.0//EN
CALSCALE:GREGORIAN
METHOD:PUBLISH
X-ORIGINAL-URL:https://www.ocetfo.ca
X-WR-CALDESC:Events for The Ottawa-Carleton Elementary Teachers’ Federation
REFRESH-INTERVAL;VALUE=DURATION:PT1H
X-Robots-Tag:noindex
X-PUBLISHED-TTL:PT1H
BEGIN:VTIMEZONE
TZID:America/Toronto
BEGIN:DAYLIGHT
TZOFFSETFROM:-0500
TZOFFSETTO:-0400
TZNAME:EDT
DTSTART:20230312T070000
END:DAYLIGHT
BEGIN:STANDARD
TZOFFSETFROM:-0400
TZOFFSETTO:-0500
TZNAME:EST
DTSTART:20231105T060000
END:STANDARD
BEGIN:DAYLIGHT
TZOFFSETFROM:-0500
TZOFFSETTO:-0400
TZNAME:EDT
DTSTART:20240310T070000
END:DAYLIGHT
BEGIN:STANDARD
TZOFFSETFROM:-0400
TZOFFSETTO:-0500
TZNAME:EST
DTSTART:20241103T060000
END:STANDARD
BEGIN:DAYLIGHT
TZOFFSETFROM:-0500
TZOFFSETTO:-0400
TZNAME:EDT
DTSTART:20250309T070000
END:DAYLIGHT
BEGIN:STANDARD
TZOFFSETFROM:-0400
TZOFFSETTO:-0500
TZNAME:EST
DTSTART:20251102T060000
END:STANDARD
BEGIN:DAYLIGHT
TZOFFSETFROM:-0500
TZOFFSETTO:-0400
TZNAME:EDT
DTSTART:20260308T070000
END:DAYLIGHT
BEGIN:STANDARD
TZOFFSETFROM:-0400
TZOFFSETTO:-0500
TZNAME:EST
DTSTART:20261101T060000
END:STANDARD
END:VTIMEZONE
BEGIN:VEVENT
DTSTART;VALUE=DATE:20230522
DTEND;VALUE=DATE:20230523
DTSTAMP:20260422T211559
CREATED:20220627T143607Z
LAST-MODIFIED:20220627T143607Z
UID:1930-1684713600-1684799999@www.ocetfo.ca
SUMMARY:Victoria Day
DESCRIPTION:
URL:https://www.ocetfo.ca/event/victoria-day-2/
CATEGORIES:Miscellaneous
END:VEVENT
BEGIN:VEVENT
DTSTART;TZID=America/Toronto:20230921T180000
DTEND;TZID=America/Toronto:20230921T200000
DTSTAMP:20260422T211559
CREATED:20230920T125625Z
LAST-MODIFIED:20230920T125625Z
UID:3021-1695319200-1695326400@www.ocetfo.ca
SUMMARY:Take Back The Night
DESCRIPTION:Take Back The Night Poster – 2023
URL:https://www.ocetfo.ca/event/take-back-the-night-3/
CATEGORIES:Miscellaneous
END:VEVENT
BEGIN:VEVENT
DTSTART;TZID=America/Toronto:20231027T183000
DTEND;TZID=America/Toronto:20231027T203000
DTSTAMP:20260422T211559
CREATED:20231016T130110Z
LAST-MODIFIED:20231016T130149Z
UID:3096-1698431400-1698438600@www.ocetfo.ca
SUMMARY:World Trivia Night
DESCRIPTION:OC ETFO/FEEO & OCEOTA Political Action Committee is sending a team to the World Trivia Night! \nRegister here.
URL:https://www.ocetfo.ca/event/world-trivia-night/
LOCATION:The Shaw Centre\, 55 Colonel By Drive\, Ottawa\, Ontario\, K1N 9J2\, Canada
CATEGORIES:Miscellaneous
END:VEVENT
BEGIN:VEVENT
DTSTART;VALUE=DATE:20250626
DTEND;VALUE=DATE:20250627
DTSTAMP:20260422T211559
CREATED:20250603T170232Z
LAST-MODIFIED:20250603T170232Z
UID:7483-1750896000-1750982399@www.ocetfo.ca
SUMMARY:Elementary Report Cards
DESCRIPTION:– Term 2 Report Card \n– Kindergarten Communication of Learning Year 1 and Year 2
URL:https://www.ocetfo.ca/event/elementary-report-cards/
CATEGORIES:Miscellaneous
END:VEVENT
BEGIN:VEVENT
DTSTART;TZID=America/Toronto:20250918T174500
DTEND;TZID=America/Toronto:20250918T200000
DTSTAMP:20260422T211559
CREATED:20250903T140832Z
LAST-MODIFIED:20250912T143356Z
UID:8041-1758217500-1758225600@www.ocetfo.ca
SUMMARY:Take Back the Night
DESCRIPTION:
URL:https://www.ocetfo.ca/event/take-back-the-night-4/
CATEGORIES:All Members,Miscellaneous,Political Action
ATTACH;FMTTYPE=image/png:https://www.ocetfo.ca/wp-content/uploads/2025/09/TBTN-2025-flyer-scaled.png
ORGANIZER;CN="Rachel Herz-Fischler":MAILTO:rachel.herz-fischler@ocdsb.ca
END:VEVENT
BEGIN:VEVENT
DTSTART;TZID=America/Toronto:20250920T110000
DTEND;TZID=America/Toronto:20250920T140000
DTSTAMP:20260422T211559
CREATED:20250903T215721Z
LAST-MODIFIED:20250912T144232Z
UID:8065-1758366000-1758376800@www.ocetfo.ca
SUMMARY:Draw the Line March for People\, for Peace & for the Planet
DESCRIPTION:
URL:https://www.ocetfo.ca/event/draw-the-line-march-for-people-for-peace-for-the-planet/
LOCATION:Elgin at Wellington Street\, Ottawa
CATEGORIES:All Members,Miscellaneous,Political Action
ATTACH;FMTTYPE=image/png:https://www.ocetfo.ca/wp-content/uploads/2025/09/Draw-the-Line-1-scaled.png
ORGANIZER;CN="Jennifer Duncan":MAILTO:jennifer.duncan@ocetfo.org
END:VEVENT
BEGIN:VEVENT
DTSTART;TZID=America/Toronto:20250924T183000
DTEND;TZID=America/Toronto:20250924T200000
DTSTAMP:20260422T211559
CREATED:20250902T205215Z
LAST-MODIFIED:20250922T203335Z
UID:8038-1758738600-1758744000@www.ocetfo.ca
SUMMARY:Where's Your Voice? Discussion Forum For Parents
DESCRIPTION: 
URL:https://www.ocetfo.ca/event/wheres-your-voice/
LOCATION:Zoom (Virtual Meeting)
CATEGORIES:All Members,Miscellaneous,Political Action
ATTACH;FMTTYPE=image/png:https://www.ocetfo.ca/wp-content/uploads/2025/09/Wheres-your-Voice-Panel-Discussion.png
ORGANIZER;CN="Jennifer Duncan":MAILTO:jennifer.duncan@ocetfo.org
END:VEVENT
BEGIN:VEVENT
DTSTART;TZID=America/Toronto:20251006T180000
DTEND;TZID=America/Toronto:20251006T210000
DTSTAMP:20260422T211559
CREATED:20250916T140605Z
LAST-MODIFIED:20251006T160806Z
UID:8284-1759773600-1759784400@www.ocetfo.ca
SUMMARY:Mary Ann Shadd Lecture
DESCRIPTION:Please note there is a virtual option available.\nOC ETFO Members: Please keep your receipts. You can be reimbursed up to $10.00 for parking and up to $10.00 for a snack before or after the event and babysitting from the Multicultural\, Social Justice & Equity Committee.\nThe event will have light refreshments available\, but cannot accommodate any dietary restrictions or allergies.
URL:https://www.ocetfo.ca/event/mary-ann-shad-lecture/
LOCATION:Richcraft Hall\, Carleton U\, 125 Colonel By Dr\, Ottawa\, ON\, Canada
CATEGORIES:All Members,Committee,Miscellaneous
ATTACH;FMTTYPE=image/jpeg:https://www.ocetfo.ca/wp-content/uploads/2025/09/Mary-Ann-Shadd-Cary-Lecture-Series-Council-17-Sept-2025-_Page_1-scaled.jpg
ORGANIZER;CN="Lorna Evans":MAILTO:lorna.evans@ocdsb.ca
END:VEVENT
BEGIN:VEVENT
DTSTART;TZID=America/Toronto:20260514T163000
DTEND;TZID=America/Toronto:20260514T200000
DTSTAMP:20260422T211559
CREATED:20250611T185438Z
LAST-MODIFIED:20260220T185708Z
UID:7539-1778776200-1778788800@www.ocetfo.ca
SUMMARY:2026 OC ETFO Annual Awards
DESCRIPTION:
URL:https://www.ocetfo.ca/event/awards-2/
LOCATION:Blu Legacy\, 3750 N Bowesville Rd\, Ottawa\, ON\, K1V 1B8\, Canada
CATEGORIES:All Members,Miscellaneous
ATTACH;FMTTYPE=image/png:https://www.ocetfo.ca/wp-content/uploads/2025/06/2026-Awards-Flyer-scaled.png
ORGANIZER;CN="OC ETFO":MAILTO:office@ocetfo.org
END:VEVENT
BEGIN:VEVENT
DTSTART;TZID=America/Toronto:20260604T163000
DTEND;TZID=America/Toronto:20260604T200000
DTSTAMP:20260422T211559
CREATED:20250611T185358Z
LAST-MODIFIED:20250611T185358Z
UID:7537-1780590600-1780603200@www.ocetfo.ca
SUMMARY:Honouring Retired Teachers
DESCRIPTION:
URL:https://www.ocetfo.ca/event/honouring-retired-teachers/
CATEGORIES:Miscellaneous
END:VEVENT
END:VCALENDAR