BEGIN:VCALENDAR
VERSION:2.0
PRODID:-//The Ottawa-Carleton Elementary Teachers’ Federation - ECPv6.13.2.1//NONSGML v1.0//EN
CALSCALE:GREGORIAN
METHOD:PUBLISH
X-ORIGINAL-URL:https://www.ocetfo.ca
X-WR-CALDESC:Events for The Ottawa-Carleton Elementary Teachers’ Federation
REFRESH-INTERVAL;VALUE=DURATION:PT1H
X-Robots-Tag:noindex
X-PUBLISHED-TTL:PT1H
BEGIN:VTIMEZONE
TZID:America/Toronto
BEGIN:DAYLIGHT
TZOFFSETFROM:-0500
TZOFFSETTO:-0400
TZNAME:EDT
DTSTART:20250309T070000
END:DAYLIGHT
BEGIN:STANDARD
TZOFFSETFROM:-0400
TZOFFSETTO:-0500
TZNAME:EST
DTSTART:20251102T060000
END:STANDARD
END:VTIMEZONE
BEGIN:VEVENT
DTSTART;TZID=America/Toronto:20250319T163000
DTEND;TZID=America/Toronto:20250319T180000
DTSTAMP:20260418T081110
CREATED:20241121T213653Z
LAST-MODIFIED:20250117T150232Z
UID:5081-1742401800-1742407200@www.ocetfo.ca
SUMMARY:Council Meeting
DESCRIPTION:
URL:https://www.ocetfo.ca/event/council-meeting-31/
LOCATION:Hellenic Centre\, 1315 Prince of Wales Dr\, Ottawa\, Ontario\, K2C 1N2\, Canada
CATEGORIES:Stewards
END:VEVENT
END:VCALENDAR