BEGIN:VCALENDAR
VERSION:2.0
PRODID:-//The Ottawa-Carleton Elementary Teachers’ Federation - ECPv6.13.2.1//NONSGML v1.0//EN
CALSCALE:GREGORIAN
METHOD:PUBLISH
X-ORIGINAL-URL:https://www.ocetfo.ca
X-WR-CALDESC:Events for The Ottawa-Carleton Elementary Teachers’ Federation
REFRESH-INTERVAL;VALUE=DURATION:PT1H
X-Robots-Tag:noindex
X-PUBLISHED-TTL:PT1H
BEGIN:VTIMEZONE
TZID:America/Toronto
BEGIN:DAYLIGHT
TZOFFSETFROM:-0500
TZOFFSETTO:-0400
TZNAME:EDT
DTSTART:20240310T070000
END:DAYLIGHT
BEGIN:STANDARD
TZOFFSETFROM:-0400
TZOFFSETTO:-0500
TZNAME:EST
DTSTART:20241103T060000
END:STANDARD
END:VTIMEZONE
BEGIN:VEVENT
DTSTART;TZID=America/Toronto:20241106T170000
DTEND;TZID=America/Toronto:20241106T183000
DTSTAMP:20260419T220013
CREATED:20241107T210245Z
LAST-MODIFIED:20241107T210331Z
UID:4799-1730912400-1730917800@www.ocetfo.ca
SUMMARY:Political Action Committee Meeting
DESCRIPTION:
URL:https://www.ocetfo.ca/event/4799/
LOCATION:Zoom (Virtual Meeting)
CATEGORIES:All Members
ATTACH;FMTTYPE=image/png:https://www.ocetfo.ca/wp-content/uploads/2024/11/PAC-Meeting.png
ORGANIZER;CN="Jennifer Duncan":MAILTO:jennifer.duncan@ocetfo.org
END:VEVENT
BEGIN:VEVENT
DTSTART;TZID=America/Toronto:20241130T093000
DTEND;TZID=America/Toronto:20241130T110000
DTSTAMP:20260419T220013
CREATED:20241107T203545Z
LAST-MODIFIED:20241115T190232Z
UID:4794-1732959000-1732964400@www.ocetfo.ca
SUMMARY:Best Theratronics Picket Line Support
DESCRIPTION:
URL:https://www.ocetfo.ca/event/best-theratronics-picket-line-support/
LOCATION:Best Theratronics Manufacturing Facility\, 413 March Road\, Kanata\, ON\, K2K0E4\, Canada
CATEGORIES:All Members
ATTACH;FMTTYPE=image/png:https://www.ocetfo.ca/wp-content/uploads/2024/11/Picket-Line-Support.png
ORGANIZER;CN="Jennifer Duncan":MAILTO:jennifer.duncan@ocetfo.org
END:VEVENT
END:VCALENDAR