BEGIN:VCALENDAR
VERSION:2.0
PRODID:-//The Ottawa-Carleton Elementary Teachers’ Federation - ECPv6.13.2.1//NONSGML v1.0//EN
CALSCALE:GREGORIAN
METHOD:PUBLISH
X-ORIGINAL-URL:https://www.ocetfo.ca
X-WR-CALDESC:Events for The Ottawa-Carleton Elementary Teachers’ Federation
REFRESH-INTERVAL;VALUE=DURATION:PT1H
X-Robots-Tag:noindex
X-PUBLISHED-TTL:PT1H
BEGIN:VTIMEZONE
TZID:America/Toronto
BEGIN:DAYLIGHT
TZOFFSETFROM:-0500
TZOFFSETTO:-0400
TZNAME:EDT
DTSTART:20240310T070000
END:DAYLIGHT
BEGIN:STANDARD
TZOFFSETFROM:-0400
TZOFFSETTO:-0500
TZNAME:EST
DTSTART:20241103T060000
END:STANDARD
END:VTIMEZONE
BEGIN:VEVENT
DTSTART;TZID=America/Toronto:20241212T170000
DTEND;TZID=America/Toronto:20241212T183000
DTSTAMP:20260419T195842
CREATED:20241107T202823Z
LAST-MODIFIED:20241125T194831Z
UID:4788-1734022800-1734028200@www.ocetfo.ca
SUMMARY:Purposeful Conversations
DESCRIPTION:
URL:https://www.ocetfo.ca/event/purposeful-conversations/
LOCATION:OC ETFO/FEEO Office\, 1150 Morrison Dr.\, Ottawa\, ON\, ON\, K2H 8S9\, Canada
CATEGORIES:All Members
ATTACH;FMTTYPE=image/png:https://www.ocetfo.ca/wp-content/uploads/2024/11/Purposeful-Conversations-1.png
ORGANIZER;CN="Jennifer Duncan":MAILTO:jennifer.duncan@ocetfo.org
END:VEVENT
END:VCALENDAR